BEGIN:VCALENDAR
VERSION:2.0
CALSCALE:GREGORIAN
METHOD:PUBLISH
PRODID://BOMA//215285
BEGIN:VEVENT
DTSTAMP:20260425T064136
VTIMEZONE:America/Chicago
DTSTART:20210819T163000Z
DTEND:20210819T180000Z
UID:215285
SUMMARY:Membership Committee Meeting
LOCATION:114 W. 7th Street, 2nd Floor
DESCRIPTION:Membership Committee Meeting\n\n08/19/21 11:30 AM CST\n - 08/19/21 01:00 PM CST\Description:\nMeet in person to discuss membership recruitment activities\Location:\n114 W. 7th Street\n2nd Floor\n,
X-ALT-DESC;FMTTYPE=text/html:Membership Committee Meeting<br /><br />08/19/21 11:30 AM CST - 08/19/21 01:00 PM CST<br />Description:<br />Meet in person to discuss membership recruitment activities<br />Location:<br />114 W. 7th Street<br />2nd Floor<br />,  
PRIORITY:3
TRANSP:TRANSPARENT
BEGIN:VALARM
TRIGGER:-PT5M
ACTION:DISPLAY
DESCRIPTION:Reminder
END:VALARM
END:VEVENT
END:VCALENDAR
